BEGIN:VCALENDAR
VERSION:2.0
PRODID:-//Kalender//
BEGIN:VEVENT
SUMMARY:Zirkustrainer*innen-Fortbildung
DTSTART:20260424T120000Z
DTEND:20260426T130000Z
DTSTAMP:20260419T124619Z
UID:event_ical_eventmanagement_29
DESCRIPTION:Im Teilnehmendenbeitrag inbegriffen sind die Kosten für Über
 nachtung\, Verpflegung und alle Materialien.
LOCATION:Evangelisches Bildungs- und Projektzentrum Villa Jühling e.V.\, 
 Semmelweisstraße 6\, 06120 Halle (Saale)\, Deutschland
END:VEVENT
END:VCALENDAR
