BEGIN:VCALENDAR
VERSION:2.0
PRODID:-//Kalender//
BEGIN:VEVENT
SUMMARY:Culture Camp
DTSTART:20260704T083000Z
DTEND:20260712T100000Z
DTSTAMP:20260419T124549Z
UID:event_ical_eventmanagement_31
DESCRIPTION:Wie auch in den letzten Jahren\, versuchen wir wieder eine Fö
 rderung für das Culture Camp zu beantragen\, um die Teilnehmer*innenbeitr
 äge möglichst gering bis kostenfrei anbieten zu können. Da es bisher ke
 ine Garantie für eine Zusage der Förderung gibt\, informieren wir euch s
 o früh wie möglich über aktuelle Entwicklungen. Daher ist bis jetzt auc
 h (noch) kein Teilnehmer*innenbeitrag angegeben.
LOCATION:KiEZ Inselparadies Petzow e.V.\, Zum Inselparadies 9-12\, 14542 W
 erder (Havel)\, Deutschland
END:VEVENT
END:VCALENDAR
