BEGIN:VCALENDAR
VERSION:2.0
PRODID:-//Kalender//
BEGIN:VEVENT
SUMMARY:Sommerwerkstatt
DTSTART:20260810T070000Z
DTEND:20260814T133000Z
DTSTAMP:20260419T124833Z
UID:event_ical_eventmanagement_33
DESCRIPTION:Im Teilnehmer*innenbeitrag inbegriffen sind Vollverpflegung\, 
 alle Materialien und die Zeltübernachtung von Mittwoch bis Freitag.
LOCATION:Evangelisches Bildungs- und Projektzentrum Villa Jühling e.V.\, 
 Semmelweisstraße 6\, 06120 Halle (Saale)\, Deutschland
END:VEVENT
END:VCALENDAR
